BEGIN:VCALENDAR
VERSION:2.0
PRODID:-//The United States of America Wushu Kungfu Federation - ECPv6.15.20//NONSGML v1.0//EN
CALSCALE:GREGORIAN
METHOD:PUBLISH
X-WR-CALNAME:The United States of America Wushu Kungfu Federation
X-ORIGINAL-URL:https://usawkf.org
X-WR-CALDESC:Events for The United States of America Wushu Kungfu Federation
REFRESH-INTERVAL;VALUE=DURATION:PT1H
X-Robots-Tag:noindex
X-PUBLISHED-TTL:PT1H
BEGIN:VTIMEZONE
TZID:UTC
BEGIN:STANDARD
TZOFFSETFROM:+0000
TZOFFSETTO:+0000
TZNAME:UTC
DTSTART:20220101T000000
END:STANDARD
END:VTIMEZONE
BEGIN:VEVENT
DTSTART;VALUE=DATE:20230902
DTEND;VALUE=DATE:20230904
DTSTAMP:20260424T044106
CREATED:20230313T195910Z
LAST-MODIFIED:20230313T195910Z
UID:3219-1693612800-1693785599@usawkf.org
SUMMARY:2023 Golden State International Wushu Championships
DESCRIPTION:2023 Golden State International Wushu Championships & U.S. National Kung Fu\nTeam Trials\, the largest international Wushu Championships in the US. This event is\nhosted by the World Taiji Science Federation (WTSF)\, sponsored by KungFuDirect.com\,\nand sanctioned by the United States of America Wushu-Kungfu Federation\, Inc.\n(USAWKF)\, and will take place at the Santa Clara Convention Center in Silicon Valley\nfrom September 2nd to 3rd. \nThe Golden State International Wushu Championship is an ideal arena for martial\narts elites and high-level athletes\, and a great opportunity for beginners to learn\, improve\,\nand cultivate confidence and courage. The competition’s organizing committee has\nspecially set up traditional routines\, including Shaolin\, Wudang\, and various northern and\nsouthern styles. Additionally\, there are optional and standard compulsory Wushu routines\,\nTai Chi Qigong\, group\, and duilian events\, etc. With nearly 150 individual competition\nevents and around 30 age groups for men and women\, there are plenty of award\nopportunities for athletes of all ages\, genres\, and skill levels. The competition also\nfeatures “first-time participant encouragement medals.” Furthermore\, the 2023\ncompetition format includes both in-person and online competition\, giving athletes from\nall over the world the chance to participate in this large-scale international martial arts\ncompetition through the internet. The event is deeply loved and respected by coaches\,\nathletes\, referees\, and parents. Over the years\, the Golden State International Wushu\nChampionship has become a well-known and highly regarded international large-scale\nwushu tournament \n 
URL:https://usawkf.org/event/2023-golden-state-international-wushu-championships/
LOCATION:Santa Clara Convention Center\, 5001 Great America Parkway\, Santa Clara\, CA\, 95054\, United States
ATTACH;FMTTYPE=image/png:https://usawkf.org/wp-content/uploads/2023/03/goldenstatebanner.png
ORGANIZER;CN="World Taiji Science Federation":MAILTO:kungfudirect@gmail.com
END:VEVENT
END:VCALENDAR