BEGIN:VCALENDAR
VERSION:2.0
PRODID:-//The United States of America Wushu Kungfu Federation - ECPv6.15.20//NONSGML v1.0//EN
CALSCALE:GREGORIAN
METHOD:PUBLISH
X-WR-CALNAME:The United States of America Wushu Kungfu Federation
X-ORIGINAL-URL:https://usawkf.org
X-WR-CALDESC:Events for The United States of America Wushu Kungfu Federation
REFRESH-INTERVAL;VALUE=DURATION:PT1H
X-Robots-Tag:noindex
X-PUBLISHED-TTL:PT1H
BEGIN:VTIMEZONE
TZID:UTC
BEGIN:STANDARD
TZOFFSETFROM:+0000
TZOFFSETTO:+0000
TZNAME:UTC
DTSTART:20250101T000000
END:STANDARD
END:VTIMEZONE
BEGIN:VEVENT
DTSTART;VALUE=DATE:20260523
DTEND;VALUE=DATE:20260525
DTSTAMP:20260424T043749
CREATED:20260127T032215Z
LAST-MODIFIED:20260417T032211Z
UID:4741-1779494400-1779667199@usawkf.org
SUMMARY:Phoenix Wushu Nationals & Supplemental Kungfu Trials
DESCRIPTION:Phoenix Wushu Nationals is the stage for competitors from all over the nation to share their passion for martial arts and compete in a fair and friendly environment. This year\, will be our 5th year anniversary! Come and join us in our celebration🎉 Mark your calendars\, we’ll see you there! 💪   \n🗓️ May 23-24\, 2026  📍 Phoenix Convention Center \nThis event will be a Kungfu Team Trial for athletes to be eligible to compete in the upcoming 5th Pan American Kungfu Championships (Buenos Aires\, Argentina\, October 2026) and the 11th World Kungfu Championships (Date and Location TBA).
URL:https://usawkf.org/event/phoenix-wushu-nationals-supplemental-kungfu-trials/
LOCATION:Phoenix Convention Center\, 33 S 3rd St\,\, Phoenix\, AZ\, 85004\, United States
CATEGORIES:Sanda,Taiji,Taolu,Traditional,USA Event
END:VEVENT
END:VCALENDAR