BEGIN:VCALENDAR
VERSION:2.0
PRODID:-//The United States of America Wushu Kungfu Federation - ECPv6.15.20//NONSGML v1.0//EN
CALSCALE:GREGORIAN
METHOD:PUBLISH
X-WR-CALNAME:The United States of America Wushu Kungfu Federation
X-ORIGINAL-URL:https://usawkf.org
X-WR-CALDESC:Events for The United States of America Wushu Kungfu Federation
REFRESH-INTERVAL;VALUE=DURATION:PT1H
X-Robots-Tag:noindex
X-PUBLISHED-TTL:PT1H
BEGIN:VTIMEZONE
TZID:UTC
BEGIN:STANDARD
TZOFFSETFROM:+0000
TZOFFSETTO:+0000
TZNAME:UTC
DTSTART:20250101T000000
END:STANDARD
END:VTIMEZONE
BEGIN:VEVENT
DTSTART;VALUE=DATE:20260214
DTEND;VALUE=DATE:20260301
DTSTAMP:20260424T074056
CREATED:20260217T033352Z
LAST-MODIFIED:20260217T033352Z
UID:4780-1771027200-1772323199@usawkf.org
SUMMARY:Taijiquan Team Trials
DESCRIPTION:Registration is now open for the Taijiquan Team Trials between 2/14-2/28. \nThe Taiji Team Trials Regulations have been finalized and are available for review. The trials will be conducted in an online format and will determine selection for the U.S. team for the World Taijiquan Championships\, taking place April 23–30\, 2026\, in Burgas\, Bulgaria. \nAll interested athletes and coaches are strongly encouraged to review the regulations carefully to ensure full understanding of eligibility\, submission requirements\, and timelines. \nView the regulations \nRegister here
URL:https://usawkf.org/event/taijiquan-team-trials/
CATEGORIES:Online Event
END:VEVENT
BEGIN:VEVENT
DTSTART;VALUE=DATE:20260208
DTEND;VALUE=DATE:20260209
DTSTAMP:20260424T074056
CREATED:20260127T172203Z
LAST-MODIFIED:20260127T190334Z
UID:4757-1770508800-1770595199@usawkf.org
SUMMARY:Balancing Wushu Training and Academics in High School
DESCRIPTION:The USAWKF invites families to an educational webinar focused on navigating the intersection of elite martial arts training and the college admissions process. \nThis session is designed for students in grades 8 – 11\, aligning with the winter academic course planning period\, when families begin making decisions that shape long term academic and extracurricular trajectories. \nWhy Attend?\nLearn how college admissions evaluate sustained athletic commitment in non-NCAA disciplines such as Wushu\, with a focus on: \nHolistic Evaluation \nHow elite individual sports like Wushu are interpreted within the competitive college admissions process. \nAthletic Commitment in Context \nHow long term training\, competition history\, and progression are documented and understood by admissions readers. \nAcademic Planning Alignment \nHow academic course choices are evaluated alongside intensive training during high school. \n\nGuest Speaker: Maria Tzankova\nFounder\, A&P Educational Services \nMaria Tzankova is an independent educational consultant specializing in college planning for students in elite individual sports. She is also a Wushu practitioner\, with international competition experience including a bronze medal at the European Wushu Championships. She holds a Certificate in School Management and Leadership from Harvard and works closely with families to translate long term athletic commitment into admissions relevant context. \nSession Details\n\nDate/Time: Feb 8\, 2026 | 8:00 PM EST / 5:00 PM PST\nFormat: Online Webinar via Zoom\nDuration: 45 minutes (including Q&A)\nRegistration: Sign Up Here via Google Forms\n\nNote: The Zoom link will be emailed to registered participants on February 5\, 2026.
URL:https://usawkf.org/event/balancing-wushu-training-and-academics-in-high-school/
CATEGORIES:Online Event
END:VEVENT
END:VCALENDAR