BEGIN:VCALENDAR
VERSION:2.0
PRODID:-//The United States of America Wushu Kungfu Federation - ECPv6.15.20//NONSGML v1.0//EN
CALSCALE:GREGORIAN
METHOD:PUBLISH
X-WR-CALNAME:The United States of America Wushu Kungfu Federation
X-ORIGINAL-URL:https://usawkf.org
X-WR-CALDESC:Events for The United States of America Wushu Kungfu Federation
REFRESH-INTERVAL;VALUE=DURATION:PT1H
X-Robots-Tag:noindex
X-PUBLISHED-TTL:PT1H
BEGIN:VTIMEZONE
TZID:UTC
BEGIN:STANDARD
TZOFFSETFROM:+0000
TZOFFSETTO:+0000
TZNAME:UTC
DTSTART:20230101T000000
END:STANDARD
END:VTIMEZONE
BEGIN:VEVENT
DTSTART;VALUE=DATE:20241109
DTEND;VALUE=DATE:20241110
DTSTAMP:20260421T093836
CREATED:20240605T022756Z
LAST-MODIFIED:20240605T161631Z
UID:3745-1731110400-1731196799@usawkf.org
SUMMARY:14th New England International Chinese Martial Arts Championships
DESCRIPTION:14th New England International Chinese Martial Arts Championships\n2024 USAWKF Kungfu (Traditional Wushu) Team Trials\n2024 New England Wushu Kungfu Grand Champion Cup\n2024 USA Tai Chi Grand Champion Cup\nDate: Saturday\, November 9\, 2024\nCompetitions: Manchester High School (Manchester\, Connecticut) — NEW COMPETITION VENUE!\nWebsite: https://newenglandchampionships.com/\nRegistration: July 1 to August 31 \nOrganized by: Malee’s School of Tai Chi & Kung Fu\nTournament Director: Malee Khow \nSanctioned by: USAWKF
URL:https://usawkf.org/event/14th-new-england-international-chinese-martial-arts-championships/
LOCATION:Manchester High School\, 134 Middle Tpke E\, Manchester\, CT\, 06040\, United States
ATTACH;FMTTYPE=image/jpeg:https://usawkf.org/wp-content/uploads/2024/06/photo_8_2024-05-09_12-44-19.jpg
ORGANIZER;CN="Malee's School of Tai Chi & Kung Fu":MAILTO:info@newenglandchampionships.com
END:VEVENT
END:VCALENDAR