BEGIN:VCALENDAR
VERSION:2.0
PRODID:-//The United States of America Wushu Kungfu Federation - ECPv6.15.20//NONSGML v1.0//EN
CALSCALE:GREGORIAN
METHOD:PUBLISH
X-WR-CALNAME:The United States of America Wushu Kungfu Federation
X-ORIGINAL-URL:https://usawkf.org
X-WR-CALDESC:Events for The United States of America Wushu Kungfu Federation
REFRESH-INTERVAL;VALUE=DURATION:PT1H
X-Robots-Tag:noindex
X-PUBLISHED-TTL:PT1H
BEGIN:VTIMEZONE
TZID:UTC
BEGIN:STANDARD
TZOFFSETFROM:+0000
TZOFFSETTO:+0000
TZNAME:UTC
DTSTART:20230101T000000
END:STANDARD
END:VTIMEZONE
BEGIN:VEVENT
DTSTART;VALUE=DATE:20240726
DTEND;VALUE=DATE:20240728
DTSTAMP:20260423T133237
CREATED:20240710T132148Z
LAST-MODIFIED:20240727T050759Z
UID:3854-1721952000-1722124799@usawkf.org
SUMMARY:2024 Sanda Team Trials and National Championships
DESCRIPTION:Download Sanda Team Trials/National Championships Bracket \n  \n  \nGENERAL INFORMATION \nTournament Dates: July 26 – July 27\, 2024 \, Weigh-in 26th\, Competition 27th\nTournament Venue: Sheraton Mesa Hotel at Wrigleyville West\nVenue Address: 860 North Riverview Mesa\, Arizona 85201\nRegistration Time:  Starts now and ends on July 14\, 2024. \n  \nGENERAL SCHEDULE \nFriday  \nFighters check in and weigh in: 4pm-6pm \nJudges meeting: 6pm \n  \nSaturday \nCoach’s / Fighters meeting: 8am \nOpening ceremony and judges introduction: 9am \nSessions begin right afterwards \n  \nAthlete Qualification & Information\n\nAdult competitors shall be 18 years old or older.\nEach competitor is recommended a valid health insurance certificate.\nECG optional for all categories\nPer Arizona Boxing and MMA Commission’s regulation\, all competing athletes who are 16 years old or older MUST pass the following additional medical exams (tested within in a year from July 26th\, 2024) and provide a copy of proof at the time of weight-in the latest:\n\nHepatitis B surface antigen test\nHepatitis C Antibody test\nHIV Screening\n\n\n\n\n**Additional Requirement for fighters who are 36 years old or over. \n\n\n\n\n\n\n\n\n\n\n\nthe results of a stress test that is administered by a physician licensed pursuant to Arizona Revised Statutes title 32\, chapter 13 or 17 accompanied by a clearance letter and the results of an electrocardiogram that demonstrates normal cardiovascular function. These results shall be completed within twenty-four months before the person submits the license application.\nFor persons over forty years of age\, if recommended by an examining physician\, the results of a brain magnetic resonance imaging scan.\nThe brain MRI scan can be waived with written clarification by the examining physician that the physician deems the test is not necessary.\n\n“the qualified medical doctor must be a Medical Doctor\, or a Doctor of Osteopathic Medicine holds a current valid medical license to practice in the United States.” \n\n———————————————\nBreak down of the requirements \nUnder 16:\n\n\nDoctor’s clearance letter (Download the consent form)\n\n\n16-35:\n\n\nPhysical exam (download the example form) AND Doctor’s clearance letter\, and blood test.\n\n\n36 to 40:\n\n\nECG. but can be waived with Doctor’s written letter to state that based on their professional opinion that such exam is deemed not necessary.\nPhysical exam (download the example form) AND Doctor’s clearance letter\, and blood test.\n\nabove 40:\n\n\nECG. But can be waived with Doctor’s written letter to state that based on their professional opinion that such exam is deemed not necessary.\nBrian MRI. But can be waived with Doctor’s written letter to state that based on their professional opinion that such exam is deemed not necessary.\nPhysical exam (download the example form) AND Doctor’s clearance letter\, and blood test.
URL:https://usawkf.org/event/2024-sanda-team-trials-and-national-championships/
ATTACH;FMTTYPE=image/jpeg:https://usawkf.org/wp-content/uploads/2024/07/Sanda2.jpg
END:VEVENT
END:VCALENDAR