BEGIN:VCALENDAR
VERSION:2.0
PRODID:-//The United States of America Wushu Kungfu Federation - ECPv6.15.20//NONSGML v1.0//EN
CALSCALE:GREGORIAN
METHOD:PUBLISH
X-WR-CALNAME:The United States of America Wushu Kungfu Federation
X-ORIGINAL-URL:https://usawkf.org
X-WR-CALDESC:Events for The United States of America Wushu Kungfu Federation
REFRESH-INTERVAL;VALUE=DURATION:PT1H
X-Robots-Tag:noindex
X-PUBLISHED-TTL:PT1H
BEGIN:VTIMEZONE
TZID:UTC
BEGIN:STANDARD
TZOFFSETFROM:+0000
TZOFFSETTO:+0000
TZNAME:UTC
DTSTART:20230101T000000
END:STANDARD
END:VTIMEZONE
BEGIN:VEVENT
DTSTART;VALUE=DATE:20240713
DTEND;VALUE=DATE:20240714
DTSTAMP:20260423T133210
CREATED:20240615T175455Z
LAST-MODIFIED:20240617T200234Z
UID:3799-1720828800-1720915199@usawkf.org
SUMMARY:2024 Presidential Wushu Cup - Kungfu Team Trial
DESCRIPTION:Below is an introduction of the event and may not necessarily reflect the views of USAWKF: \nJoin Us for the Presidential Wushu Cup! \nGet ready for an electrifying day of martial arts mastery at the Presidential Wushu Cup on July 13th\, near Washington DC! Whether you’re a seasoned athlete or just beginning your journey\, this competition is open to all ages and skill levels. Show off your skills in traditional Shaolin\, contemporary Wushu\, Taichi\, wing chun and more for a chance to win one of the 14 stunning crystal trophies\, each valued at $450. Additionally you can compete to be selected for the Kung Fu team to represent the USA at both Pan American and World Championships Tournaments. \nMeet our energetic mascot\, Ava\, and create unforgettable memories as you connect with new friends from across the globe\, including competitors from Canada\, Iran\, China\, and beyond. Don’t miss out on this incredible opportunity to be part of an international celebration of martial arts excellence! Free giveaways will be given to all and Medals being awarded to the top 80% of the division\, 100% of those competing in the First Timer categories! \nJiayou and see you there!
URL:https://usawkf.org/event/3799/
LOCATION:Gaithersburg High School\, 101 Education Blvd\, Gaithersburg\, MD\, 20877\, United States
ORGANIZER;CN="Capital Taichi Wellness Foundation":MAILTO:PresidentialWushuCup@gmail.com
END:VEVENT
END:VCALENDAR