BEGIN:VCALENDAR
VERSION:2.0
PRODID:-//The United States of America Wushu Kungfu Federation - ECPv6.15.20//NONSGML v1.0//EN
CALSCALE:GREGORIAN
METHOD:PUBLISH
X-ORIGINAL-URL:https://usawkf.org
X-WR-CALDESC:Events for The United States of America Wushu Kungfu Federation
REFRESH-INTERVAL;VALUE=DURATION:PT1H
X-Robots-Tag:noindex
X-PUBLISHED-TTL:PT1H
BEGIN:VTIMEZONE
TZID:UTC
BEGIN:STANDARD
TZOFFSETFROM:+0000
TZOFFSETTO:+0000
TZNAME:UTC
DTSTART:20230101T000000
END:STANDARD
END:VTIMEZONE
BEGIN:VEVENT
DTSTART;VALUE=DATE:20240525
DTEND;VALUE=DATE:20240528
DTSTAMP:20260423T152025
CREATED:20240308T130350Z
LAST-MODIFIED:20240518T123755Z
UID:3675-1716595200-1716854399@usawkf.org
SUMMARY:2024 USAWKF National Taolu Team Trials
DESCRIPTION:The 2024 United States Wushu-Kungfu Federation (USAWKF) National Junior Taolu \, National Taijiquan Team Trials\, and\nNational Kungfu Team Trials will be held from May 25 to May 27\, 2024\, at the Santa Clara\nConvention Center in Santa Clara\, CA. This team trials event will select the Junior Wushu\nTaolu Team to represent the U.S. in the 9th Junior World Wushu Championships to be held\nin Brunei Darussalam from September 22 to September 30\, 2024\, and the 4th World\nTaijiquan Championships to be held in Singapore from August 21 to 28\, 2024. All team\ntrials events in this tournament will select multiple teams to represent the U.S. in the 14th\nPan American Wushu Championships and Pan American Wushu Kungfu Tournament\, also\nto be held in Santa Clara\, CA\, from August 31 to September 2\, 2024.” \nThis part of the competition is specifically for selecting junior taolu team members and taijiquan team members. \nClick here for the full regulations of the Junior Taolu Team Trials and the Taijiquan Team Trials.
URL:https://usawkf.org/event/2024-usawkf-national-taolu-team-trials/
LOCATION:Santa Clara Convention Center\, 5001 Great America Parkway\, Santa Clara\, CA\, 95054\, United States
ATTACH;FMTTYPE=image/jpeg:https://usawkf.org/wp-content/uploads/2022/08/image6.jpeg
ORGANIZER;CN="World Taiji Science Federation":MAILTO:kungfudirect@gmail.com
END:VEVENT
BEGIN:VEVENT
DTSTART;VALUE=DATE:20240525
DTEND;VALUE=DATE:20240528
DTSTAMP:20260423T152025
CREATED:20240308T132154Z
LAST-MODIFIED:20240308T132154Z
UID:3682-1716595200-1716854399@usawkf.org
SUMMARY:2024 Golden State International Wushu Championships
DESCRIPTION:The Golden State International Wushu Championships is an annual event which will be the first Kungfu Team Trials of 2024 where athletes can compete for a spot on the Kungfu teams. The regional kungfu teams give team members the ability to compete in the 5th Pan American Kungfu Championships and the 10th World Kungfu Championships both planned to be held in 2025. \nClick here for the full regulations
URL:https://usawkf.org/event/2024-golden-state-international-wushu-championships/
LOCATION:Santa Clara Convention Center\, 5001 Great America Parkway\, Santa Clara\, CA\, 95054\, United States
ATTACH;FMTTYPE=image/png:https://usawkf.org/wp-content/uploads/2024/03/omei-kongfu.png
ORGANIZER;CN="World Taiji Science Federation":MAILTO:kungfudirect@gmail.com
END:VEVENT
BEGIN:VEVENT
DTSTART;VALUE=DATE:20240525
DTEND;VALUE=DATE:20240528
DTSTAMP:20260423T152025
CREATED:20240308T132830Z
LAST-MODIFIED:20240308T132830Z
UID:3686-1716595200-1716854399@usawkf.org
SUMMARY:2024 USAWKF Junior Sanda Team Trials and International Sanda Championships
DESCRIPTION:The 2024 United States Wushu-Kungfu Federation (USAWKF) National Junior Taolu and\nSanda Team Trials\, National Taijiquan Team Trials\, National Sanda Championships and\nNational Kungfu Team Trials will be held from May 25 to May 27\, 2024\, at the Santa Clara\nConvention Center in Santa Clara\, CA. This team trials event will select the Junior Wushu\nTaolu Team to represent the U.S. in the 9th Junior World Wushu Championships to be held\nin Brunei Darussalam from September 22 to September 30\, 2024\, and the 4th World\nTaijiquan Championships to be held in Singapore from August 21 to 28\, 2024. All team\ntrials events in this tournament will select multiple teams to represent the U.S. in the 14th\nPan American Wushu Championships and Pan American Wushu Kungfu Tournament\, also\nto be held in Santa Clara\, CA\, from August 31 to September 2\, 2024. \nClick here for the full regulations
URL:https://usawkf.org/event/2024-usawkf-junior-sanda-team-trials-and-international-sanda-championships/
LOCATION:Santa Clara Convention Center\, 5001 Great America Parkway\, Santa Clara\, CA\, 95054\, United States
ATTACH;FMTTYPE=image/jpeg:https://usawkf.org/wp-content/uploads/2022/08/Pan-American-Wushu-Championships-2022_-26-scaled.jpg
ORGANIZER;CN="World Taiji Science Federation":MAILTO:kungfudirect@gmail.com
END:VEVENT
END:VCALENDAR