BEGIN:VCALENDAR
VERSION:2.0
PRODID:-//The United States of America Wushu Kungfu Federation - ECPv6.15.20//NONSGML v1.0//EN
CALSCALE:GREGORIAN
METHOD:PUBLISH
X-ORIGINAL-URL:https://usawkf.org
X-WR-CALDESC:Events for The United States of America Wushu Kungfu Federation
REFRESH-INTERVAL;VALUE=DURATION:PT1H
X-Robots-Tag:noindex
X-PUBLISHED-TTL:PT1H
BEGIN:VTIMEZONE
TZID:UTC
BEGIN:STANDARD
TZOFFSETFROM:+0000
TZOFFSETTO:+0000
TZNAME:UTC
DTSTART:20220101T000000
END:STANDARD
END:VTIMEZONE
BEGIN:VEVENT
DTSTART;VALUE=DATE:20230823
DTEND;VALUE=DATE:20230829
DTSTAMP:20260424T074011
CREATED:20230226T141753Z
LAST-MODIFIED:20230602T170701Z
UID:3177-1692748800-1693267199@usawkf.org
SUMMARY:9th World Kungfu Championships
DESCRIPTION:From the IWUF Website: \nThe World Kungfu Championships (WKFC) is the official world-level sport-for-all event that is hosted by the International Wushu Federation. First held in 2004\, the WKFC takes place biennially and features thousands of competitors in all age groups competing in a wide variety of events. This event provides an excellent platform for practitioners of all ages and varying skill levels within all traditional kungfu styles to foster understanding through skill and cultural exchanges. With a spirit of interaction\, the event aims to build friendships and interest in the practice of kungfu (traditional wushu). \nThe last WKFC\, which was held in Emeishan in 2019\, had the biggest US team to date with over 200 athletes and 500 delegation members. We would love to continue the trend and send a US team that is just as big this year!  Kungfu Team members who got on the team in 2022 and 2023 are eligible to participate in the 9th WKFC. \nRegulations and Registration available here.
URL:https://usawkf.org/event/9th-world-kungfu-championships/
LOCATION:Emeishan\, China\, Emeishan\, China
ATTACH;FMTTYPE=image/jpeg:https://usawkf.org/wp-content/uploads/2023/02/P7_0110-Armes.jpeg
END:VEVENT
END:VCALENDAR